BEGIN:VCALENDAR
VERSION:2.0
PRODID:-//eventon.com NONSGML v1.0//EN
CALSCALE:GREGORIAN
METHOD:PUBLISH
BEGIN:VEVENT
UID:69e736a92cb84
DTSTAMP:20260421T083449Z
DTSTART:20250714T170000Z
DTEND:20250715T055900Z
LOCATION:Lost Cabin Rapid City Taproom 1401 W. Omaha St.\,  Ste. #3
SUMMARY:Black Hills Bulk Foods
DESCRIPTION:Black Hills Bulk Foods is rolling into the Rapid City Taproom o
 n Monday\,  July 14th with all the essentials: fresh produce\,  top-tier me
 ats\,  and local favorites you won’t want to miss. Stock your fridge\,  s
 upport a local business or two\,  sip a fresh craft beer\,  and turn your g
 rocery run[..]\nhttps://lostcabin.beer/events/black-hills-bulk-foods-july14
 /
URL:https://lostcabin.beer/events/black-hills-bulk-foods-july14/
END:VEVENT
END:VCALENDAR