BEGIN:VCALENDAR
VERSION:2.0
PRODID:-//eventon.com NONSGML v1.0//EN
CALSCALE:GREGORIAN
METHOD:PUBLISH
BEGIN:VEVENT
UID:69e7373f8d956
DTSTAMP:20260421T083719Z
DTSTART:20250327T233000Z
DTEND:20250328T055900Z
LOCATION:Lost Cabin Hill City Beer Garden 150 Poplar Street
SUMMARY:Beer Garden Trivia
DESCRIPTION:Trivia is back\,  and so is your chance to prove that all those
  random facts in your head are good for something other than weird conversa
 tions at parties. 📅 Thursday\,  March 27 📍 Lost Cabin Beer Garden &#8
 211; Hill City ⏰ 5:30 PM Assemble your team\,  grab a pint\,  and[..]\nht
 tps://lostcabin.beer/events/beer-garden-trivia-march27/
URL:https://lostcabin.beer/events/beer-garden-trivia-march27/
END:VEVENT
END:VCALENDAR