BEGIN:VCALENDAR
VERSION:2.0
PRODID:-//eventon.com NONSGML v1.0//EN
CALSCALE:GREGORIAN
METHOD:PUBLISH
BEGIN:VEVENT
UID:69e4f03d8e3cd
DTSTAMP:20260419T150949Z
DTSTART:20241117T210000Z
DTEND:20241118T065900Z
LOCATION:Lost Cabin Rapid City Taproom 1401 W. Omaha St.\,  Ste. #3
SUMMARY:Cribbage Tournament
DESCRIPTION:Here at Lost Cabin\,  we don’t play games&#8230;Unless that g
 ame is Cribbage! (or Bingo\,  or a Spelling Bee\,  or pinochle\,  or someti
 mes Mario Kart 64). So\,  it turns out we DO\,  in fact\,  play games somet
 imes\,  and Sunday\,  November 17th just happens to be one of those times. 
 CRIBBAGE returns[..]\nhttps://lostcabin.beer/events/cribbage-tournament-nov
 17/
URL:https://lostcabin.beer/events/cribbage-tournament-nov17/
END:VEVENT
END:VCALENDAR