BEGIN:VCALENDAR
VERSION:2.0
PRODID:-//eventon.com NONSGML v1.0//EN
CALSCALE:GREGORIAN
METHOD:PUBLISH
BEGIN:VEVENT
UID:69e895040ad5a
DTSTAMP:20260422T092940Z
DTSTART:20240914T180000Z
DTEND:20240915T055900Z
LOCATION:Lost Cabin Rapid City Taproom 1401 W. Omaha St.\,  Ste. #3
SUMMARY:Oktoberfest
DESCRIPTION:Chicken dance and schnitzel enthusiasts\,  mark your calendars 
 &#8211; Lost Cabin Oktoberfest kicks off on Saturday\,  September 14th! Smo
 kin’ Hot will be here with a special menu just for the occasion along wit
 h live Oompah music from the Happy Wanderers\,  the 2024 Oktoberfest Mug re
 lease\,  games\,  giveaways and a lineup[..]\nhttps://lostcabin.beer/events
 /oktoberfest-rapid-city-taproom/
URL:https://lostcabin.beer/events/oktoberfest-rapid-city-taproom/
END:VEVENT
END:VCALENDAR