BEGIN:VCALENDAR
VERSION:2.0
PRODID:-//eventon.com NONSGML v1.0//EN
CALSCALE:GREGORIAN
METHOD:PUBLISH
BEGIN:VEVENT
UID:69e9e4033a36e
DTSTAMP:20260423T091859Z
DTSTART:20240719T180000Z
DTEND:20240720T055900Z
LOCATION:Lost Cabin Rapid City Taproom 1401 W. Omaha St.\,  Ste. #3
SUMMARY:Beer Release: East Gruesome
DESCRIPTION:East Gruesome\,  a BRAND SPANKIN’ NEW Grapefruit infused IPA\
 ,  made in collaboration with the climbers from the South Dakota Outdoor Sh
 op in Custer hits both Lost Cabin locations (and the Outdoor Shop) on Frida
 y\,  July 19th in cans and on tap! Inspired by a Black Hills route establis
 hed by legends[..]\nhttps://lostcabin.beer/events/beer-release-east-gruesom
 e/
URL:https://lostcabin.beer/events/beer-release-east-gruesome/
END:VEVENT
END:VCALENDAR