BEGIN:VCALENDAR
VERSION:2.0
PRODID:-//eventon.com NONSGML v1.0//EN
CALSCALE:GREGORIAN
METHOD:PUBLISH
BEGIN:VEVENT
UID:69e8942637021
DTSTAMP:20260422T092558Z
DTSTART:20240630
DTEND:20240701
LOCATION:Lost Cabin Hill City Beer Garden 150 Poplar Street
SUMMARY:Plays Well With Others Fest
DESCRIPTION:Welcome to theÂ Plays Well With Others Fest! Get ready for a da
 y filled with fresh craft beer\,  live music\,  food trucks\,  local vendor
 s and good vibes. Join us onÂ Sun\,  Jun 30\,  2024Â starting atÂ 11:00 AMÂ
  atÂ Lost Cabin Beer Co. &#8211; Hill City Beer GardenÂ for a festival cele
 brating community and collaboration. Featuring: Mike[..]\nhttps://lostcabin
 .beer/events/plays-well-with-others-fest/
URL:https://lostcabin.beer/events/plays-well-with-others-fest/
END:VEVENT
END:VCALENDAR