BEGIN:VCALENDAR
VERSION:2.0
PRODID:-//eventon.com NONSGML v1.0//EN
CALSCALE:GREGORIAN
METHOD:PUBLISH
BEGIN:VEVENT
UID:69e748355d6ed
DTSTAMP:20260421T094941Z
DTSTART:20230709T120000Z
DTEND:20230709T140000Z
LOCATION:Lost Cabin Rapid City Taproom 1401 W. Omaha St.\,  Ste. #3
SUMMARY:Sip & STEAM w/ Dakota STEAM
DESCRIPTION:Swing by the taproom on Sunday\,  July 9th from 12pm to 2pm to 
 check out Dakota STEAM Learning! This event includes several challenges for
  families or friends\,  at the taproom or to-go! Each STEAM kit comes with 
 a challenge\,  materials and research needed to complete each challenge. Th
 ey now have[..]\nhttps://lostcabin.beer/events/sip-steam/
URL:https://lostcabin.beer/events/sip-steam/
END:VEVENT
END:VCALENDAR