BEGIN:VCALENDAR
VERSION:2.0
PRODID:-//eventon.com NONSGML v1.0//EN
CALSCALE:GREGORIAN
METHOD:PUBLISH
BEGIN:VEVENT
UID:69e7485b82673
DTSTAMP:20260421T095019Z
DTSTART:20220912
DTEND:20220913
LOCATION:
SUMMARY:Tandoor Bocado
DESCRIPTION:Tandoor Bocado\nhttps://lostcabin.beer/events/tandoor-bocado-17
 /
URL:https://lostcabin.beer/events/tandoor-bocado-17/
END:VEVENT
END:VCALENDAR