BEGIN:VCALENDAR
VERSION:2.0
PRODID:-//eventon.com NONSGML v1.0//EN
CALSCALE:GREGORIAN
METHOD:PUBLISH
BEGIN:VEVENT
UID:69e892caa801e
DTSTAMP:20260422T092010Z
DTSTART:20220627
DTEND:20220628
LOCATION:
SUMMARY:Tandoor Bocado
DESCRIPTION:Tandoor Bocado\nhttps://lostcabin.beer/events/tandoor-bocado-4/
URL:https://lostcabin.beer/events/tandoor-bocado-4/
END:VEVENT
END:VCALENDAR