BEGIN:VCALENDAR
VERSION:2.0
PRODID:-//eventon.com NONSGML v1.0//EN
CALSCALE:GREGORIAN
METHOD:PUBLISH
BEGIN:VEVENT
UID:69e748926cd4d
DTSTAMP:20260421T095114Z
DTSTART:20220525
DTEND:20220526
LOCATION:
SUMMARY:Everyday Jakes
DESCRIPTION:Everyday Jakes\nhttps://lostcabin.beer/events/everyday-jakes/
URL:https://lostcabin.beer/events/everyday-jakes/
END:VEVENT
END:VCALENDAR