BEGIN:VCALENDAR
VERSION:2.0
PRODID:-//eventon.com NONSGML v1.0//EN
CALSCALE:GREGORIAN
METHOD:PUBLISH
BEGIN:VEVENT
UID:69e4d8395deac
DTSTAMP:20260419T132721Z
DTSTART:20220522T120000Z
DTEND:20220522T210000Z
LOCATION:Lost Cabin Rapid City Taproom 1401 W. Omaha St.\,  Ste. #3
SUMMARY:ACBW: 2022 Homebrew Awards!
DESCRIPTION:Let&#8217;s finish our favorite week of the year by celebrating
  the whole reason we&#8217;re in this mess: HOMEBREWING! The greatest hobby
  on god&#8217;s green earth is what started Lost Cabin and we are back with
  the 2022 Lost Cabin Homebrew Contest. Homebrewers from all over the region
  submitted beers and[..]\nhttps://lostcabin.beer/events/acbw-2022-homebrew-
 awards/
URL:https://lostcabin.beer/events/acbw-2022-homebrew-awards/
END:VEVENT
END:VCALENDAR